BEGIN:VCALENDAR
VERSION:2.0
PRODID:-//ChamberMaster//Event Calendar 2.0//EN
METHOD:PUBLISH
X-PUBLISHED-TTL:P1H
REFRESH-INTERVAL:P1H
CALSCALE:GREGORIAN
BEGIN:VTIMEZONE
TZID:America/New_York
BEGIN:DAYLIGHT
RRULE:FREQ=YEARLY;BYMONTH=3;BYDAY=2SU
DTSTART:20070101T000000
TZOFFSETFROM:-0500
TZOFFSETTO:-0400
TZNAME:Eastern Daylight Time
END:DAYLIGHT
BEGIN:STANDARD
RRULE:FREQ=YEARLY;BYMONTH=11;BYDAY=1SU
DTSTART:20070101T000000
TZOFFSETFROM:-0400
TZOFFSETTO:-0500
TZNAME:Eastern Standard Time
END:STANDARD
END:VTIMEZONE
BEGIN:VEVENT
DTSTART;TZID=America/New_York:20260625T183000
DTEND;TZID=America/New_York:20260625T210000
X-MICROSOFT-CDO-ALLDAYEVENT:FALSE
SUMMARY:Cornhole Tournament (YPN) June 25\, 2026
DESCRIPTION:We are proud to announce our 5th Annual Charity Cornhole Tournament! SAVE THE DATE! You don't want to miss out on this amazing event raising funds for American Legion Post 87 in High Point\, NC. We will have food\, beverages\, a 50/50\, numerous raffle items\, vendors and of course cornhole! All proceeds from this event go to benefit American Legion Post 87 and local veterans in the Triad. Sign up your team or sign up individually (and we can match you up with at teammate!) All proceeds go to a local Veteran's charity!  We look forward to seeing you all there!
X-ALT-DESC;FMTTYPE=text/html:<!DOCTYPE html><html><head><title></title></head><body aria-disabled="false"><p>We are proud to announce our 5th Annual Charity Cornhole Tournament! SAVE THE DATE! You don&#39\;t want to miss out on this amazing event raising funds for American Legion Post 87 in High Point\, NC. We will have food\, beverages\, a 50/50\, numerous raffle items\, vendors and of course cornhole! All proceeds from this event go to benefit American Legion Post 87 and local veterans in the Triad.&nbsp\;</p><p>Sign up your team or sign up individually (and we can match you up with at teammate!) All proceeds go to a local Veteran&rsquo\;s charity! &nbsp\;</p><p><span style="color: rgb(0\, 0\, 0)\; font-family: Arial\; font-size: medium\; font-style: normal\; font-variant-ligatures: normal\; font-variant-caps: normal\; font-weight: 400\; letter-spacing: normal\; orphans: 2\; text-align: start\; text-indent: 0px\; text-transform: none\; widows: 2\; word-spacing: 0px\; -webkit-text-stroke-width: 0px\; white-space: normal\; text-decoration-thickness: initial\; text-decoration-style: initial\; text-decoration-color: initial\; display: inline !important\; float: none\;">We look forward to seeing you all there!&nbsp\;</span></p><p><span style="color: rgb(0\, 0\, 0)\; font-family: Arial\; font-size: medium\; font-style: normal\; font-variant-ligatures: normal\; font-variant-caps: normal\; font-weight: 400\; letter-spacing: normal\; orphans: 2\; text-align: start\; text-indent: 0px\; text-transform: none\; widows: 2\; word-spacing: 0px\; -webkit-text-stroke-width: 0px\; white-space: normal\; text-decoration-thickness: initial\; text-decoration-style: initial\; text-decoration-color: initial\; display: inline !important\; float: none\;"></span><br></p></body></html>
LOCATION:409 W High Ave High Point 27260
UID:e.3599.1443167
SEQUENCE:3
DTSTAMP:20260421T104318Z
URL:https://members.hprar.org/eventcalendar/Details/cornhole-tournament-ypn-june-25-2026-1709377?sourceTypeId=Hub
END:VEVENT
END:VCALENDAR
